BEGIN:VCALENDAR
VERSION:2.0
BEGIN:VEVENT
DTSTART;TZID=Europe/Stockholm:20200103T183000
DTEND;TZID=Europe/Stockholm:20200103T193000
DTSTAMP:20260422T120447
DESCRIPTION:
SEQUENCE:0
SUMMARY:Fredax
UID:2596@lawebb.se
END:VEVENT
END:VCALENDAR