BEGIN:VCALENDAR
VERSION:2.0
BEGIN:VEVENT
DTSTART;TZID=Europe/Stockholm:20200108T190000
DTEND;TZID=Europe/Stockholm:20200108T200000
DTSTAMP:20260422T120215
DESCRIPTION:Se sändning på Bergskyrkan facebook-sida
SEQUENCE:0
SUMMARY:Bönetimman
UID:2853@lawebb.se
END:VEVENT
END:VCALENDAR