BEGIN:VCALENDAR
VERSION:2.0
BEGIN:VEVENT
DTSTART;TZID=Europe/Stockholm:20200212T190000
DTEND;TZID=Europe/Stockholm:20200212T200000
DTSTAMP:20260423T121454
DESCRIPTION:Se sändning på Bergskyrkan facebook-sida
SEQUENCE:0
SUMMARY:Bönetimman
UID:3482@lawebb.se
END:VEVENT
END:VCALENDAR