BEGIN:VCALENDAR
VERSION:2.0
BEGIN:VEVENT
DTSTART;TZID=Europe/Stockholm:20200214T183000
DTEND;TZID=Europe/Stockholm:20200214T193000
DTSTAMP:20260423T121504
DESCRIPTION:
SEQUENCE:0
SUMMARY:Fredax
UID:4573@lawebb.se
END:VEVENT
END:VCALENDAR