BEGIN:VCALENDAR
VERSION:2.0
BEGIN:VEVENT
DTSTART;TZID=Europe/Stockholm:20200221T183000
DTEND;TZID=Europe/Stockholm:20200221T193000
DTSTAMP:20260423T121456
DESCRIPTION:
SEQUENCE:0
SUMMARY:Fredax
UID:2884@lawebb.se
END:VEVENT
END:VCALENDAR