BEGIN:VCALENDAR
VERSION:2.0
BEGIN:VEVENT
DTSTART;TZID=Europe/Stockholm:20200306T183000
DTEND;TZID=Europe/Stockholm:20200306T193000
DTSTAMP:20260423T135819
DESCRIPTION:
SEQUENCE:0
SUMMARY:Fredax
UID:8553@lawebb.se
END:VEVENT
END:VCALENDAR