BEGIN:VCALENDAR
VERSION:2.0
BEGIN:VEVENT
DTSTART;TZID=Europe/Stockholm:20200320T183000
DTEND;TZID=Europe/Stockholm:20200320T193000
DTSTAMP:20260423T135702
DESCRIPTION:
SEQUENCE:0
SUMMARY:Fredax
UID:4729@lawebb.se
END:VEVENT
END:VCALENDAR