BEGIN:VCALENDAR
VERSION:2.0
BEGIN:VEVENT
DTSTART;TZID=Europe/Stockholm:20280523T190000
DTEND;TZID=Europe/Stockholm:20280523T200000
DTSTAMP:20260423T120114
DESCRIPTION:
SEQUENCE:0
SUMMARY:Bönetimman
UID:8995@lawebb.se
END:VEVENT
END:VCALENDARBEGIN:VCALENDAR
VERSION:2.0
BEGIN:VEVENT
DTSTART;TZID=Europe/Stockholm:20200408T190000
DTEND;TZID=Europe/Stockholm:20200408T200000
DTSTAMP:20260423T152734
DESCRIPTION:Se sändning på Bergskyrkan facebook-sida
SEQUENCE:0
SUMMARY:Bönetimman
UID:5384@lawebb.se
END:VEVENT
END:VCALENDAR