BEGIN:VCALENDAR
VERSION:2.0
BEGIN:VEVENT
DTSTART;TZID=Europe/Stockholm:20200410T183000
DTEND;TZID=Europe/Stockholm:20200410T193000
DTSTAMP:20260423T152652
DESCRIPTION:
SEQUENCE:0
SUMMARY:Fredax
UID:6972@lawebb.se
END:VEVENT
END:VCALENDAR