BEGIN:VCALENDAR
VERSION:2.0
BEGIN:VEVENT
DTSTART;TZID=Europe/Stockholm:20200501T183000
DTEND;TZID=Europe/Stockholm:20200501T193000
DTSTAMP:20260423T165225
DESCRIPTION:
SEQUENCE:0
SUMMARY:Fredax
UID:2949@lawebb.se
END:VEVENT
END:VCALENDAR