BEGIN:VCALENDAR
VERSION:2.0
BEGIN:VEVENT
DTSTART;TZID=Europe/Stockholm:20200522T183000
DTEND;TZID=Europe/Stockholm:20200522T193000
DTSTAMP:20260423T164507
DESCRIPTION:
SEQUENCE:0
SUMMARY:Fredax
UID:7759@lawebb.se
END:VEVENT
END:VCALENDAR