BEGIN:VCALENDAR
VERSION:2.0
BEGIN:VEVENT
DTSTART;TZID=Europe/Stockholm:20200527T190000
DTEND;TZID=Europe/Stockholm:20200527T200000
DTSTAMP:20260423T165544
DESCRIPTION:Se sändning på Bergskyrkan facebook-sida
SEQUENCE:0
SUMMARY:Bönetimman
UID:4224@lawebb.se
END:VEVENT
END:VCALENDAR