BEGIN:VCALENDAR
VERSION:2.0
BEGIN:VEVENT
DTSTART;TZID=Europe/Stockholm:20200612T183000
DTEND;TZID=Europe/Stockholm:20200612T193000
DTSTAMP:20260423T182903
DESCRIPTION:
SEQUENCE:0
SUMMARY:Fredax
UID:8299@lawebb.se
END:VEVENT
END:VCALENDAR