BEGIN:VCALENDAR
VERSION:2.0
BEGIN:VEVENT
DTSTART;TZID=Europe/Stockholm:20200617T190000
DTEND;TZID=Europe/Stockholm:20200617T200000
DTSTAMP:20260423T183129
DESCRIPTION:Se sändning på Bergskyrkan facebook-sida
SEQUENCE:0
SUMMARY:Bönetimman
UID:6935@lawebb.se
END:VEVENT
END:VCALENDAR