BEGIN:VCALENDAR
VERSION:2.0
BEGIN:VEVENT
DTSTART;TZID=Europe/Stockholm:20200624T190000
DTEND;TZID=Europe/Stockholm:20200624T200000
DTSTAMP:20260423T183608
DESCRIPTION:Se sändning på Bergskyrkan facebook-sida
SEQUENCE:0
SUMMARY:Bönetimman
UID:5925@lawebb.se
END:VEVENT
END:VCALENDAR