BEGIN:VCALENDAR
VERSION:2.0
BEGIN:VEVENT
DTSTART;TZID=Europe/Stockholm:20200701T190000
DTEND;TZID=Europe/Stockholm:20200701T200000
DTSTAMP:20260423T195255
DESCRIPTION:Se sändning på Bergskyrkan facebook-sida
SEQUENCE:0
SUMMARY:Bönetimman
UID:3537@lawebb.se
END:VEVENT
END:VCALENDAR