BEGIN:VCALENDAR
VERSION:2.0
BEGIN:VEVENT
DTSTART;TZID=Europe/Stockholm:20200710T183000
DTEND;TZID=Europe/Stockholm:20200710T193000
DTSTAMP:20260423T195842
DESCRIPTION:
SEQUENCE:0
SUMMARY:Fredax
UID:4485@lawebb.se
END:VEVENT
END:VCALENDAR