BEGIN:VCALENDAR
VERSION:2.0
BEGIN:VEVENT
DTSTART;TZID=Europe/Stockholm:20200715T190000
DTEND;TZID=Europe/Stockholm:20200715T200000
DTSTAMP:20260423T195729
DESCRIPTION:Se sändning på Bergskyrkan facebook-sida
SEQUENCE:0
SUMMARY:Bönetimman
UID:7372@lawebb.se
END:VEVENT
END:VCALENDAR