BEGIN:VCALENDAR
VERSION:2.0
BEGIN:VEVENT
DTSTART;TZID=Europe/Stockholm:20200729T190000
DTEND;TZID=Europe/Stockholm:20200729T200000
DTSTAMP:20260423T200026
DESCRIPTION:Se sändning på Bergskyrkan facebook-sida
SEQUENCE:0
SUMMARY:Bönetimman
UID:9227@lawebb.se
END:VEVENT
END:VCALENDAR