BEGIN:VCALENDAR
VERSION:2.0
BEGIN:VEVENT
DTSTART;TZID=Europe/Stockholm:20200826T190000
DTEND;TZID=Europe/Stockholm:20200826T200000
DTSTAMP:20260423T212714
DESCRIPTION:Se sändning på Bergskyrkan facebook-sida
SEQUENCE:0
SUMMARY:Bönetimman
UID:8774@lawebb.se
END:VEVENT
END:VCALENDAR