BEGIN:VCALENDAR
VERSION:2.0
BEGIN:VEVENT
DTSTART;TZID=Europe/Stockholm:20200828T183000
DTEND;TZID=Europe/Stockholm:20200828T193000
DTSTAMP:20260423T213650
DESCRIPTION:
SEQUENCE:0
SUMMARY:Fredax
UID:4794@lawebb.se
END:VEVENT
END:VCALENDAR