BEGIN:VCALENDAR
VERSION:2.0
BEGIN:VEVENT
DTSTART;TZID=Europe/Stockholm:20210203T190000
DTEND;TZID=Europe/Stockholm:20210203T200000
DTSTAMP:20260424T015902
DESCRIPTION:Se sändning på Bergskyrkan facebook-sida
SEQUENCE:0
SUMMARY:Bönetimman
UID:6565@lawebb.se
END:VEVENT
END:VCALENDAR