BEGIN:VCALENDAR
VERSION:2.0
BEGIN:VEVENT
DTSTART;TZID=Europe/Stockholm:20440405T190000
DTEND;TZID=Europe/Stockholm:20440405T200000
DTSTAMP:20260423T175803
DESCRIPTION:
SEQUENCE:0
SUMMARY:Bönetimman
UID:4942@lawebb.se
END:VEVENT
END:VCALENDARBEGIN:VCALENDAR
VERSION:2.0
BEGIN:VEVENT
DTSTART;TZID=Europe/Stockholm:20210310T190000
DTEND;TZID=Europe/Stockholm:20210310T200000
DTSTAMP:20260424T003854
DESCRIPTION:Se sändning på Bergskyrkan facebook-sida
SEQUENCE:0
SUMMARY:Bönetimman
UID:7252@lawebb.se
END:VEVENT
END:VCALENDAR