BEGIN:VCALENDAR
VERSION:2.0
BEGIN:VEVENT
DTSTART;TZID=Europe/Stockholm:20210331T190000
DTEND;TZID=Europe/Stockholm:20210331T200000
DTSTAMP:20260424T003206
DESCRIPTION:Se sändning på Bergskyrkan facebook-sida
SEQUENCE:0
SUMMARY:Bönetimman
UID:8979@lawebb.se
END:VEVENT
END:VCALENDAR