BEGIN:VCALENDAR
VERSION:2.0
BEGIN:VEVENT
DTSTART;TZID=Europe/Stockholm:20210407T190000
DTEND;TZID=Europe/Stockholm:20210407T200000
DTSTAMP:20260423T230559
DESCRIPTION:Se sändning på Bergskyrkan facebook-sida
SEQUENCE:0
SUMMARY:Bönetimman
UID:9934@lawebb.se
END:VEVENT
END:VCALENDAR