BEGIN:VCALENDAR
VERSION:2.0
BEGIN:VEVENT
DTSTART;TZID=Europe/Stockholm:20210414T190000
DTEND;TZID=Europe/Stockholm:20210414T200000
DTSTAMP:20260423T230745
DESCRIPTION:Se sändning på Bergskyrkan facebook-sida
SEQUENCE:0
SUMMARY:Bönetimman
UID:5354@lawebb.se
END:VEVENT
END:VCALENDAR