BEGIN:VCALENDAR
VERSION:2.0
BEGIN:VEVENT
DTSTART;TZID=Europe/Stockholm:20210616T190000
DTEND;TZID=Europe/Stockholm:20210616T200000
DTSTAMP:20260423T195244
DESCRIPTION:Se sändning på Bergskyrkan facebook-sida
SEQUENCE:0
SUMMARY:Bönetimman
UID:9653@lawebb.se
END:VEVENT
END:VCALENDAR