BEGIN:VCALENDAR
VERSION:2.0
BEGIN:VEVENT
DTSTART;TZID=Europe/Stockholm:20210707T190000
DTEND;TZID=Europe/Stockholm:20210707T200000
DTSTAMP:20260423T181517
DESCRIPTION:Se sändning på Bergskyrkan facebook-sida
SEQUENCE:0
SUMMARY:Bönetimman
UID:6953@lawebb.se
END:VEVENT
END:VCALENDAR