BEGIN:VCALENDAR
VERSION:2.0
BEGIN:VEVENT
DTSTART;TZID=Europe/Stockholm:20210731T100000
DTEND;TZID=Europe/Stockholm:20210731T110000
DTSTAMP:20260423T182005
DESCRIPTION:På översta våningen i Bergskyrkan kl. 10.00-12.00
SEQUENCE:0
SUMMARY:Loppis - SEMESTERSTÄNGT
UID:7237@lawebb.se
END:VEVENT
END:VCALENDAR