BEGIN:VCALENDAR
VERSION:2.0
BEGIN:VEVENT
DTSTART;TZID=Europe/Stockholm:20210821T100000
DTEND;TZID=Europe/Stockholm:20210821T110000
DTSTAMP:20260423T165558
DESCRIPTION:Öppet 10.00 - 12.00
SEQUENCE:0
SUMMARY:Loppis
UID:2964@lawebb.se
END:VEVENT
END:VCALENDAR