BEGIN:VCALENDAR
VERSION:2.0
BEGIN:VEVENT
DTSTART;TZID=Europe/Stockholm:20210904T100000
DTEND;TZID=Europe/Stockholm:20210904T110000
DTSTAMP:20260423T151315
DESCRIPTION:Öppet 10.00 - 12.00
SEQUENCE:0
SUMMARY:Loppis
UID:6279@lawebb.se
END:VEVENT
END:VCALENDAR