BEGIN:VCALENDAR
VERSION:2.0
BEGIN:VEVENT
DTSTART;TZID=Europe/Stockholm:20210915T140000
DTEND;TZID=Europe/Stockholm:20210915T150000
DTSTAMP:20260423T151430
DESCRIPTION:Öppet 14.00-17.00
SEQUENCE:0
SUMMARY:Loppis
UID:5932@lawebb.se
END:VEVENT
END:VCALENDAR