BEGIN:VCALENDAR
VERSION:2.0
BEGIN:VEVENT
DTSTART;TZID=Europe/Stockholm:20210918T100000
DTEND;TZID=Europe/Stockholm:20210918T110000
DTSTAMP:20260423T151907
DESCRIPTION:Öppet 10.00 - 12.00
SEQUENCE:0
SUMMARY:Loppis
UID:8258@lawebb.se
END:VEVENT
END:VCALENDAR