BEGIN:VCALENDAR
VERSION:2.0
BEGIN:VEVENT
DTSTART;TZID=Europe/Stockholm:20210922T140000
DTEND;TZID=Europe/Stockholm:20210922T150000
DTSTAMP:20260423T151828
DESCRIPTION:Öppet 14.00-17.00
SEQUENCE:0
SUMMARY:Loppis
UID:2266@lawebb.se
END:VEVENT
END:VCALENDAR