BEGIN:VCALENDAR
VERSION:2.0
BEGIN:VEVENT
DTSTART;TZID=Europe/Stockholm:20211110T140000
DTEND;TZID=Europe/Stockholm:20211110T150000
DTSTAMP:20260423T121934
DESCRIPTION:På järnvägsgatan 7
Öppet 14.00 - 16.30
SEQUENCE:0
SUMMARY:Bergskyrkans Boutique
UID:3799@lawebb.se
END:VEVENT
END:VCALENDAR