BEGIN:VCALENDAR
VERSION:2.0
BEGIN:VEVENT
DTSTART;TZID=Europe/Stockholm:20211110T140000
DTEND;TZID=Europe/Stockholm:20211110T150000
DTSTAMP:20260423T121657
DESCRIPTION:Öppet 14.00-17.00
SEQUENCE:0
SUMMARY:Loppis
UID:3387@lawebb.se
END:VEVENT
END:VCALENDAR