BEGIN:VCALENDAR
VERSION:2.0
BEGIN:VEVENT
DTSTART;TZID=Europe/Stockholm:20211225T100000
DTEND;TZID=Europe/Stockholm:20211225T110000
DTSTAMP:20260421T124046
DESCRIPTION:Öppet 10.00 - 12.00
SEQUENCE:0
SUMMARY:Loppis
UID:6985@lawebb.se
END:VEVENT
END:VCALENDAR