BEGIN:VCALENDAR
VERSION:2.0
BEGIN:VEVENT
DTSTART;TZID=Europe/Stockholm:20211229T140000
DTEND;TZID=Europe/Stockholm:20211229T150000
DTSTAMP:20260421T123613
DESCRIPTION:Öppet 14.00-17.00
SEQUENCE:0
SUMMARY:Loppis
UID:5393@lawebb.se
END:VEVENT
END:VCALENDAR