BEGIN:VCALENDAR
VERSION:2.0
BEGIN:VEVENT
DTSTART;TZID=Europe/Stockholm:20220105T140000
DTEND;TZID=Europe/Stockholm:20220105T150000
DTSTAMP:20260421T144122
DESCRIPTION:På järnvägsgatan 7
Öppet 14.00 - 16.30
SEQUENCE:0
SUMMARY:Bergskyrkans Boutique
UID:2689@lawebb.se
END:VEVENT
END:VCALENDAR