BEGIN:VCALENDAR
VERSION:2.0
BEGIN:VEVENT
DTSTART;TZID=Europe/Stockholm:20220112T140000
DTEND;TZID=Europe/Stockholm:20220112T150000
DTSTAMP:20260421T144109
DESCRIPTION:Öppet 14.00-17.00
SEQUENCE:0
SUMMARY:Loppis
UID:5382@lawebb.se
END:VEVENT
END:VCALENDAR