BEGIN:VCALENDAR
VERSION:2.0
BEGIN:VEVENT
DTSTART;TZID=Europe/Stockholm:20421210T140000
DTEND;TZID=Europe/Stockholm:20421210T150000
DTSTAMP:20260421T085851
DESCRIPTION:Öppet 14.00-17.00
SEQUENCE:0
SUMMARY:Loppis
UID:3426@lawebb.se
END:VEVENT
END:VCALENDARBEGIN:VCALENDAR
VERSION:2.0
BEGIN:VEVENT
DTSTART;TZID=Europe/Stockholm:20220212T100000
DTEND;TZID=Europe/Stockholm:20220212T110000
DTSTAMP:20260421T161616
DESCRIPTION:Öppet 10.00 - 12.00
SEQUENCE:0
SUMMARY:Loppis
UID:7352@lawebb.se
END:VEVENT
END:VCALENDAR