BEGIN:VCALENDAR
VERSION:2.0
BEGIN:VEVENT
DTSTART;TZID=Europe/Stockholm:20240228T140000
DTEND;TZID=Europe/Stockholm:20240228T150000
DTSTAMP:20260421T071508
DESCRIPTION:På järnvägsgatan 7
Öppet 14.00 - 16.30
SEQUENCE:0
SUMMARY:Bergskyrkans Boutique
UID:8879@lawebb.se
END:VEVENT
END:VCALENDARBEGIN:VCALENDAR
VERSION:2.0
BEGIN:VEVENT
DTSTART;TZID=Europe/Stockholm:20220223T140000
DTEND;TZID=Europe/Stockholm:20220223T150000
DTSTAMP:20260421T161621
DESCRIPTION:På järnvägsgatan 7
Öppet 14.00 - 16.30
SEQUENCE:0
SUMMARY:Bergskyrkans Boutique
UID:4592@lawebb.se
END:VEVENT
END:VCALENDAR