BEGIN:VCALENDAR
VERSION:2.0
BEGIN:VEVENT
DTSTART;TZID=Europe/Stockholm:20220312T100000
DTEND;TZID=Europe/Stockholm:20220312T110000
DTSTAMP:20260421T175839
DESCRIPTION:Öppet 10.00 - 12.00
SEQUENCE:0
SUMMARY:Loppis
UID:9339@lawebb.se
END:VEVENT
END:VCALENDAR