BEGIN:VCALENDAR
VERSION:2.0
BEGIN:VEVENT
DTSTART;TZID=Europe/Stockholm:20220323T140000
DTEND;TZID=Europe/Stockholm:20220323T150000
DTSTAMP:20260421T180033
DESCRIPTION:På järnvägsgatan 7
Öppet 14.00 - 16.30
SEQUENCE:0
SUMMARY:Bergskyrkans Boutique
UID:8975@lawebb.se
END:VEVENT
END:VCALENDAR