BEGIN:VCALENDAR
VERSION:2.0
BEGIN:VEVENT
DTSTART;TZID=Europe/Stockholm:20220406T151500
DTEND;TZID=Europe/Stockholm:20220406T161500
DTSTAMP:20260421T194610
DESCRIPTION:med Håkan
SEQUENCE:0
SUMMARY:Alpha-kurs
UID:6593@lawebb.se
END:VEVENT
END:VCALENDAR