BEGIN:VCALENDAR
VERSION:2.0
BEGIN:VEVENT
DTSTART;TZID=Europe/Stockholm:20220416T100000
DTEND;TZID=Europe/Stockholm:20220416T110000
DTSTAMP:20260421T194227
DESCRIPTION:Öppet 10.00 - 12.00
SEQUENCE:0
SUMMARY:Loppis
UID:8287@lawebb.se
END:VEVENT
END:VCALENDAR