BEGIN:VCALENDAR
VERSION:2.0
BEGIN:VEVENT
DTSTART;TZID=Europe/Stockholm:20220420T151500
DTEND;TZID=Europe/Stockholm:20220420T161500
DTSTAMP:20260421T194051
DESCRIPTION:med Håkan
SEQUENCE:0
SUMMARY:Alpha-kurs
UID:5949@lawebb.se
END:VEVENT
END:VCALENDAR