BEGIN:VCALENDAR
VERSION:2.0
BEGIN:VEVENT
DTSTART;TZID=Europe/Stockholm:20220427T151500
DTEND;TZID=Europe/Stockholm:20220427T161500
DTSTAMP:20260421T194840
DESCRIPTION:med Håkan
SEQUENCE:0
SUMMARY:Alpha-kurs
UID:7289@lawebb.se
END:VEVENT
END:VCALENDAR