BEGIN:VCALENDAR
VERSION:2.0
BEGIN:VEVENT
DTSTART;TZID=Europe/Stockholm:20220504T093000
DTEND;TZID=Europe/Stockholm:20220504T103000
DTSTAMP:20260421T211753
DESCRIPTION:Språkträning med lite fika i Bergskyrkan 09.30-11.00
SEQUENCE:0
SUMMARY:Asylcafé
UID:3359@lawebb.se
END:VEVENT
END:VCALENDAR