BEGIN:VCALENDAR
VERSION:2.0
BEGIN:VEVENT
DTSTART;TZID=Europe/Stockholm:20220504T151500
DTEND;TZID=Europe/Stockholm:20220504T161500
DTSTAMP:20260421T211714
DESCRIPTION:med Håkan
SEQUENCE:0
SUMMARY:Alpha-kurs
UID:6834@lawebb.se
END:VEVENT
END:VCALENDAR